BEGIN:VCALENDAR
VERSION:2.0
PRODID:-//Kerval Centre Armor - ECPv6.15.17.1//NONSGML v1.0//EN
CALSCALE:GREGORIAN
METHOD:PUBLISH
X-WR-CALNAME:Kerval Centre Armor
X-ORIGINAL-URL:https://kerval-centre-armor.fr
X-WR-CALDESC:Évènements pour Kerval Centre Armor
REFRESH-INTERVAL;VALUE=DURATION:PT1H
X-Robots-Tag:noindex
X-PUBLISHED-TTL:PT1H
BEGIN:VTIMEZONE
TZID:Europe/Paris
BEGIN:DAYLIGHT
TZOFFSETFROM:+0100
TZOFFSETTO:+0200
TZNAME:CEST
DTSTART:20250330T010000
END:DAYLIGHT
BEGIN:STANDARD
TZOFFSETFROM:+0200
TZOFFSETTO:+0100
TZNAME:CET
DTSTART:20251026T010000
END:STANDARD
BEGIN:DAYLIGHT
TZOFFSETFROM:+0100
TZOFFSETTO:+0200
TZNAME:CEST
DTSTART:20260329T010000
END:DAYLIGHT
BEGIN:STANDARD
TZOFFSETFROM:+0200
TZOFFSETTO:+0100
TZNAME:CET
DTSTART:20261025T010000
END:STANDARD
BEGIN:DAYLIGHT
TZOFFSETFROM:+0100
TZOFFSETTO:+0200
TZNAME:CEST
DTSTART:20270328T010000
END:DAYLIGHT
BEGIN:STANDARD
TZOFFSETFROM:+0200
TZOFFSETTO:+0100
TZNAME:CET
DTSTART:20271031T010000
END:STANDARD
END:VTIMEZONE
BEGIN:VEVENT
DTSTART;TZID=Europe/Paris:20260305T183000
DTEND;TZID=Europe/Paris:20260305T213000
DTSTAMP:20260421T104154
CREATED:20260217T140659Z
LAST-MODIFIED:20260217T140659Z
UID:2378-1772735400-1772746200@kerval-centre-armor.fr
SUMMARY:Céréales et légumineuses\, combo gagnant à cuisiner
DESCRIPTION:Découvrez les atouts de l’association céréales et légumineuses en réalisant  2 recettes que vous dégusterez à l’issue de l’atelier. \nInscrivez-vous dès maintenant pour vivre ce moment unique. \nTarif : 25€/personne (tarif réduit pour les adhérents)
URL:https://kerval-centre-armor.fr/evenement/cereales-et-legumineuses-combo-gagnant-a-cuisiner/
LOCATION:Maison de la TERRE\, La Fontaine de Trémargat\, Lantic\, 22410\, France
CATEGORIES:Cuisine
ORGANIZER;CN="Familles Rurales 22":MAILTO:famillesrurales.binicetables@gmail.com
END:VEVENT
END:VCALENDAR