BEGIN:VCALENDAR
VERSION:2.0
PRODID:-//Kerval Centre Armor - ECPv6.15.17.1//NONSGML v1.0//EN
CALSCALE:GREGORIAN
METHOD:PUBLISH
X-WR-CALNAME:Kerval Centre Armor
X-ORIGINAL-URL:https://kerval-centre-armor.fr
X-WR-CALDESC:Évènements pour Kerval Centre Armor
REFRESH-INTERVAL;VALUE=DURATION:PT1H
X-Robots-Tag:noindex
X-PUBLISHED-TTL:PT1H
BEGIN:VTIMEZONE
TZID:Europe/Paris
BEGIN:DAYLIGHT
TZOFFSETFROM:+0100
TZOFFSETTO:+0200
TZNAME:CEST
DTSTART:20250330T010000
END:DAYLIGHT
BEGIN:STANDARD
TZOFFSETFROM:+0200
TZOFFSETTO:+0100
TZNAME:CET
DTSTART:20251026T010000
END:STANDARD
BEGIN:DAYLIGHT
TZOFFSETFROM:+0100
TZOFFSETTO:+0200
TZNAME:CEST
DTSTART:20260329T010000
END:DAYLIGHT
BEGIN:STANDARD
TZOFFSETFROM:+0200
TZOFFSETTO:+0100
TZNAME:CET
DTSTART:20261025T010000
END:STANDARD
BEGIN:DAYLIGHT
TZOFFSETFROM:+0100
TZOFFSETTO:+0200
TZNAME:CEST
DTSTART:20270328T010000
END:DAYLIGHT
BEGIN:STANDARD
TZOFFSETFROM:+0200
TZOFFSETTO:+0100
TZNAME:CET
DTSTART:20271031T010000
END:STANDARD
END:VTIMEZONE
BEGIN:VEVENT
DTSTART;VALUE=DATE:20260401
DTEND;VALUE=DATE:20260521
DTSTAMP:20260423T163959
CREATED:20260421T150443Z
LAST-MODIFIED:20260421T150535Z
UID:2582-1775001600-1779321599@kerval-centre-armor.fr
SUMMARY:Concours photo
DESCRIPTION:🌿 Concours Photo – 📸\nDu 1er avril au 20 mai\, capturez une action en faveur de la nature : faune\, flore ou geste écolo du quotidien au jardin \nOuvert aux amateurs – 3 photos max \nPhotos en haute qualité\, sans filtre\nÀ joindre : lieu\, titre\, description courte + vos coordonnées\nDe nombreux lots à gagner : livres nature\, graines\, outils\, pot de miel\, visite guidée…\nLa photo gagnante sera en couverture du flyer de septembre 🌟 \nRèglement et modalités sur kerval-centre-armor.fr
URL:https://kerval-centre-armor.fr/evenement/concours-photo/
LOCATION:Maison de la TERRE\, La Fontaine de Trémargat\, Lantic\, 22410\, France
CATEGORIES:Evénement
ORGANIZER;CN="Maison de la TERRE":MAILTO:communication@kerval-centre-armor.fr
END:VEVENT
END:VCALENDAR